BEGIN:VCALENDAR
VERSION:2.0
PRODID:-//Citrus County Mosquito Control District - ECPv6.15.20//NONSGML v1.0//EN
CALSCALE:GREGORIAN
METHOD:PUBLISH
X-WR-CALNAME:Citrus County Mosquito Control District
X-ORIGINAL-URL:https://citrusmosquito.org/ww2
X-WR-CALDESC:Events for Citrus County Mosquito Control District
REFRESH-INTERVAL;VALUE=DURATION:PT1H
X-Robots-Tag:noindex
X-PUBLISHED-TTL:PT1H
BEGIN:VTIMEZONE
TZID:America/New_York
BEGIN:DAYLIGHT
TZOFFSETFROM:-0500
TZOFFSETTO:-0400
TZNAME:EDT
DTSTART:20250309T070000
END:DAYLIGHT
BEGIN:STANDARD
TZOFFSETFROM:-0400
TZOFFSETTO:-0500
TZNAME:EST
DTSTART:20251102T060000
END:STANDARD
BEGIN:DAYLIGHT
TZOFFSETFROM:-0500
TZOFFSETTO:-0400
TZNAME:EDT
DTSTART:20260308T070000
END:DAYLIGHT
BEGIN:STANDARD
TZOFFSETFROM:-0400
TZOFFSETTO:-0500
TZNAME:EST
DTSTART:20261101T060000
END:STANDARD
BEGIN:DAYLIGHT
TZOFFSETFROM:-0500
TZOFFSETTO:-0400
TZNAME:EDT
DTSTART:20270314T070000
END:DAYLIGHT
BEGIN:STANDARD
TZOFFSETFROM:-0400
TZOFFSETTO:-0500
TZNAME:EST
DTSTART:20271107T060000
END:STANDARD
END:VTIMEZONE
BEGIN:VEVENT
DTSTART;TZID=America/New_York:20260419T080000
DTEND;TZID=America/New_York:20260425T170000
DTSTAMP:20260424T125130
CREATED:20260325T204348Z
LAST-MODIFIED:20260325T204502Z
UID:1879-1776585600-1777136400@citrusmosquito.org
SUMMARY:Florida Mosquito Control Awareness Week
DESCRIPTION:
URL:https://citrusmosquito.org/ww2/events/florida-mosquito-control-awareness-week/
END:VEVENT
BEGIN:VEVENT
DTSTART;TZID=America/New_York:20260425T090000
DTEND;TZID=America/New_York:20260425T130000
DTSTAMP:20260424T125130
CREATED:20260112T185616Z
LAST-MODIFIED:20260112T185616Z
UID:1813-1777107600-1777122000@citrusmosquito.org
SUMMARY:National Go Birding Day
DESCRIPTION:Time: 9:00 AM – 1:00 PMDate: April 25Location: Felburn ParkCost: Free\n\nCelebrate National Go Birding Day by exploring Felburn Park’s diverse habitats. Participants will engage in guided birding\, learning species identification\, habitat preferences\, and seasonal patterns. This program offers adults a unique opportunity to connect with local wildlife while enjoying a morning in nature.
URL:https://citrusmosquito.org/ww2/events/national-go-birding-day/
LOCATION:Felburn Park\, Felburn Park 10201 N. Suncoast Blvd\, Crystal River\, Florida\, 34428\, United States
END:VEVENT
END:VCALENDAR