BEGIN:VCALENDAR
VERSION:2.0
PRODID:-//Citrus County Mosquito Control District - ECPv6.15.20//NONSGML v1.0//EN
CALSCALE:GREGORIAN
METHOD:PUBLISH
X-WR-CALNAME:Citrus County Mosquito Control District
X-ORIGINAL-URL:https://citrusmosquito.org/ww2
X-WR-CALDESC:Events for Citrus County Mosquito Control District
REFRESH-INTERVAL;VALUE=DURATION:PT1H
X-Robots-Tag:noindex
X-PUBLISHED-TTL:PT1H
BEGIN:VTIMEZONE
TZID:America/New_York
BEGIN:DAYLIGHT
TZOFFSETFROM:-0500
TZOFFSETTO:-0400
TZNAME:EDT
DTSTART:20250309T070000
END:DAYLIGHT
BEGIN:STANDARD
TZOFFSETFROM:-0400
TZOFFSETTO:-0500
TZNAME:EST
DTSTART:20251102T060000
END:STANDARD
BEGIN:DAYLIGHT
TZOFFSETFROM:-0500
TZOFFSETTO:-0400
TZNAME:EDT
DTSTART:20260308T070000
END:DAYLIGHT
BEGIN:STANDARD
TZOFFSETFROM:-0400
TZOFFSETTO:-0500
TZNAME:EST
DTSTART:20261101T060000
END:STANDARD
BEGIN:DAYLIGHT
TZOFFSETFROM:-0500
TZOFFSETTO:-0400
TZNAME:EDT
DTSTART:20270314T070000
END:DAYLIGHT
BEGIN:STANDARD
TZOFFSETFROM:-0400
TZOFFSETTO:-0500
TZNAME:EST
DTSTART:20271107T060000
END:STANDARD
END:VTIMEZONE
BEGIN:VEVENT
DTSTART;TZID=America/New_York:20260312T080000
DTEND;TZID=America/New_York:20260312T090000
DTSTAMP:20260424T142734
CREATED:20260325T202324Z
LAST-MODIFIED:20260325T202324Z
UID:1847-1773302400-1773306000@citrusmosquito.org
SUMMARY:Board Meeting
DESCRIPTION:Agenda and Board Meeting Documents
URL:https://citrusmosquito.org/ww2/events/board-meeting-3/
LOCATION:Citrus County Mosquito Control District\, 968 N Lecanto Hwy\, Lecanto\, FL\, 34461\, United States
END:VEVENT
BEGIN:VEVENT
DTSTART;TZID=America/New_York:20260312T120000
DTEND;TZID=America/New_York:20260312T140000
DTSTAMP:20260424T142734
CREATED:20260112T191217Z
LAST-MODIFIED:20260112T191217Z
UID:1823-1773316800-1773324000@citrusmosquito.org
SUMMARY:Water Conservation Expo
DESCRIPTION:The Expo provides a festive environment where residents can engage directly with local agencies and partners. We will be there with mosquito control information and giveaways.
URL:https://citrusmosquito.org/ww2/events/water-conservation-expo/
LOCATION:Sugarmill Woods Country Club\, 1 Douglas St\, Homosassa\, FL\, 34446\, United States
END:VEVENT
BEGIN:VEVENT
DTSTART;TZID=America/New_York:20260321T090000
DTEND;TZID=America/New_York:20260321T130000
DTSTAMP:20260424T142734
CREATED:20260112T184306Z
LAST-MODIFIED:20260112T184349Z
UID:1808-1774083600-1774098000@citrusmosquito.org
SUMMARY:Citrus County Chronicle Spring Home and Outdoor Show
DESCRIPTION:Join us at the Spring Home and Outdoor Show for mosquito control information and giveaways.
URL:https://citrusmosquito.org/ww2/events/citrus-county-chronicle-spring-home-and-outdoor-show/
LOCATION:Crystal River Armory\, 8551 W Venable St\, Crystal River\, FL\, 34429\, United States
END:VEVENT
BEGIN:VEVENT
DTSTART;TZID=America/New_York:20260326T100000
DTEND;TZID=America/New_York:20260326T140000
DTSTAMP:20260424T142734
CREATED:20251014T181007Z
LAST-MODIFIED:20260105T213345Z
UID:1782-1774519200-1774533600@citrusmosquito.org
SUMMARY:Annual Open House
DESCRIPTION:Join us for our annual open house 10:00am-2:00pm. Take a tour of our facilities and talk with our experienced staff. We will have a blood drive on premises during the event with LifeSouth Community Blood Centers.
URL:https://citrusmosquito.org/ww2/events/annual-open-house-2/
LOCATION:Citrus County Mosquito Control District\, 968 N Lecanto Hwy\, Lecanto\, FL\, 34461\, United States
END:VEVENT
END:VCALENDAR