BEGIN:VCALENDAR
VERSION:2.0
PRODID:-//Citrus County Mosquito Control District - ECPv6.15.20//NONSGML v1.0//EN
CALSCALE:GREGORIAN
METHOD:PUBLISH
X-WR-CALNAME:Citrus County Mosquito Control District
X-ORIGINAL-URL:https://citrusmosquito.org/ww2
X-WR-CALDESC:Events for Citrus County Mosquito Control District
REFRESH-INTERVAL;VALUE=DURATION:PT1H
X-Robots-Tag:noindex
X-PUBLISHED-TTL:PT1H
BEGIN:VTIMEZONE
TZID:America/New_York
BEGIN:DAYLIGHT
TZOFFSETFROM:-0500
TZOFFSETTO:-0400
TZNAME:EDT
DTSTART:20250309T070000
END:DAYLIGHT
BEGIN:STANDARD
TZOFFSETFROM:-0400
TZOFFSETTO:-0500
TZNAME:EST
DTSTART:20251102T060000
END:STANDARD
BEGIN:DAYLIGHT
TZOFFSETFROM:-0500
TZOFFSETTO:-0400
TZNAME:EDT
DTSTART:20260308T070000
END:DAYLIGHT
BEGIN:STANDARD
TZOFFSETFROM:-0400
TZOFFSETTO:-0500
TZNAME:EST
DTSTART:20261101T060000
END:STANDARD
BEGIN:DAYLIGHT
TZOFFSETFROM:-0500
TZOFFSETTO:-0400
TZNAME:EDT
DTSTART:20270314T070000
END:DAYLIGHT
BEGIN:STANDARD
TZOFFSETFROM:-0400
TZOFFSETTO:-0500
TZNAME:EST
DTSTART:20271107T060000
END:STANDARD
END:VTIMEZONE
BEGIN:VEVENT
DTSTART;TZID=America/New_York:20260805T100000
DTEND;TZID=America/New_York:20260805T110000
DTSTAMP:20260424T113341
CREATED:20260325T203959Z
LAST-MODIFIED:20260325T203959Z
UID:1869-1785924000-1785927600@citrusmosquito.org
SUMMARY:Facility Tour
DESCRIPTION:Join us for a presentation and tour of our mosquito control facility. We will start with a presentation on mosquito control practices\, how you can prevent mosquitoes at home\, and then finish with a tour of our equipment\, lab and helicopters. Everyone is welcome free of charge. This event is geared toward adults however\, children who are interested are welcome to attend. Please RSVP by calling 352-527-7478 ext 315 or emailing tfrisbie@citrusmosquito.org.
URL:https://citrusmosquito.org/ww2/events/facility-tour-4/
LOCATION:Citrus County Mosquito Control District\, 968 N Lecanto Hwy\, Lecanto\, FL\, 34461\, United States
END:VEVENT
BEGIN:VEVENT
DTSTART;TZID=America/New_York:20260813T080000
DTEND;TZID=America/New_York:20260813T090000
DTSTAMP:20260424T113341
CREATED:20260325T202748Z
LAST-MODIFIED:20260325T202748Z
UID:1857-1786608000-1786611600@citrusmosquito.org
SUMMARY:Board Meeting
DESCRIPTION:Agenda and Board Meeting Documents
URL:https://citrusmosquito.org/ww2/events/board-meeting-8/
LOCATION:Citrus County Mosquito Control District\, 968 N Lecanto Hwy\, Lecanto\, FL\, 34461\, United States
END:VEVENT
BEGIN:VEVENT
DTSTART;TZID=America/New_York:20260916T100000
DTEND;TZID=America/New_York:20260916T110000
DTSTAMP:20260424T113341
CREATED:20260325T204038Z
LAST-MODIFIED:20260325T204038Z
UID:1871-1789552800-1789556400@citrusmosquito.org
SUMMARY:Facility Tour
DESCRIPTION:Join us for a presentation and tour of our mosquito control facility. We will start with a presentation on mosquito control practices\, how you can prevent mosquitoes at home\, and then finish with a tour of our equipment\, lab and helicopters. Everyone is welcome free of charge. This event is geared toward adults however\, children who are interested are welcome to attend. Please RSVP by calling 352-527-7478 ext 315 or emailing tfrisbie@citrusmosquito.org.
URL:https://citrusmosquito.org/ww2/events/facility-tour-5/
LOCATION:Citrus County Mosquito Control District\, 968 N Lecanto Hwy\, Lecanto\, FL\, 34461\, United States
END:VEVENT
BEGIN:VEVENT
DTSTART;TZID=America/New_York:20261008T080000
DTEND;TZID=America/New_York:20261008T090000
DTSTAMP:20260424T113341
CREATED:20260325T202902Z
LAST-MODIFIED:20260325T202902Z
UID:1859-1791446400-1791450000@citrusmosquito.org
SUMMARY:Board Meeting
DESCRIPTION:Agenda and Board Meeting Documents
URL:https://citrusmosquito.org/ww2/events/board-meeting-9/
LOCATION:Citrus County Mosquito Control District\, 968 N Lecanto Hwy\, Lecanto\, FL\, 34461\, United States
END:VEVENT
BEGIN:VEVENT
DTSTART;TZID=America/New_York:20261014T100000
DTEND;TZID=America/New_York:20261014T110000
DTSTAMP:20260424T113341
CREATED:20260325T204114Z
LAST-MODIFIED:20260325T204114Z
UID:1873-1791972000-1791975600@citrusmosquito.org
SUMMARY:Facility Tour
DESCRIPTION:Join us for a presentation and tour of our mosquito control facility. We will start with a presentation on mosquito control practices\, how you can prevent mosquitoes at home\, and then finish with a tour of our equipment\, lab and helicopters. Everyone is welcome free of charge. This event is geared toward adults however\, children who are interested are welcome to attend. Please RSVP by calling 352-527-7478 ext 315 or emailing tfrisbie@citrusmosquito.org.
URL:https://citrusmosquito.org/ww2/events/facility-tour-6/
LOCATION:FL
END:VEVENT
BEGIN:VEVENT
DTSTART;TZID=America/New_York:20261104T100000
DTEND;TZID=America/New_York:20261104T110000
DTSTAMP:20260424T113341
CREATED:20260325T204149Z
LAST-MODIFIED:20260325T204149Z
UID:1875-1793786400-1793790000@citrusmosquito.org
SUMMARY:Facility Tour
DESCRIPTION:Join us for a presentation and tour of our mosquito control facility. We will start with a presentation on mosquito control practices\, how you can prevent mosquitoes at home\, and then finish with a tour of our equipment\, lab and helicopters. Everyone is welcome free of charge. This event is geared toward adults however\, children who are interested are welcome to attend. Please RSVP by calling 352-527-7478 ext 315 or emailing tfrisbie@citrusmosquito.org.
URL:https://citrusmosquito.org/ww2/events/facility-tour-7/
LOCATION:Citrus County Mosquito Control District\, 968 N Lecanto Hwy\, Lecanto\, FL\, 34461\, United States
END:VEVENT
BEGIN:VEVENT
DTSTART;TZID=America/New_York:20261112T080000
DTEND;TZID=America/New_York:20261112T090000
DTSTAMP:20260424T113341
CREATED:20260325T202939Z
LAST-MODIFIED:20260325T202939Z
UID:1861-1794470400-1794474000@citrusmosquito.org
SUMMARY:Board Meeting
DESCRIPTION:Agenda and Board Meeting Documents
URL:https://citrusmosquito.org/ww2/events/board-meeting-10/
LOCATION:Citrus County Mosquito Control District\, 968 N Lecanto Hwy\, Lecanto\, FL\, 34461\, United States
END:VEVENT
BEGIN:VEVENT
DTSTART;TZID=America/New_York:20261202T100000
DTEND;TZID=America/New_York:20261202T110000
DTSTAMP:20260424T113341
CREATED:20260325T204224Z
LAST-MODIFIED:20260325T204224Z
UID:1877-1796205600-1796209200@citrusmosquito.org
SUMMARY:Facility Tour
DESCRIPTION:Join us for a presentation and tour of our mosquito control facility. We will start with a presentation on mosquito control practices\, how you can prevent mosquitoes at home\, and then finish with a tour of our equipment\, lab and helicopters. Everyone is welcome free of charge. This event is geared toward adults however\, children who are interested are welcome to attend. Please RSVP by calling 352-527-7478 ext 315 or emailing tfrisbie@citrusmosquito.org.
URL:https://citrusmosquito.org/ww2/events/facility-tour-8/
LOCATION:FL
END:VEVENT
BEGIN:VEVENT
DTSTART;TZID=America/New_York:20261210T080000
DTEND;TZID=America/New_York:20261210T090000
DTSTAMP:20260424T113341
CREATED:20260325T203016Z
LAST-MODIFIED:20260325T203016Z
UID:1863-1796889600-1796893200@citrusmosquito.org
SUMMARY:Board Meeting
DESCRIPTION:Agenda and Board Meeting Documents
URL:https://citrusmosquito.org/ww2/events/board-meeting-11/
LOCATION:Citrus County Mosquito Control District\, 968 N Lecanto Hwy\, Lecanto\, FL\, 34461\, United States
END:VEVENT
END:VCALENDAR