BEGIN:VCALENDAR
VERSION:2.0
PRODID:-//Citrus County Mosquito Control District - ECPv6.15.20//NONSGML v1.0//EN
CALSCALE:GREGORIAN
METHOD:PUBLISH
X-ORIGINAL-URL:https://citrusmosquito.org/ww2
X-WR-CALDESC:Events for Citrus County Mosquito Control District
REFRESH-INTERVAL;VALUE=DURATION:PT1H
X-Robots-Tag:noindex
X-PUBLISHED-TTL:PT1H
BEGIN:VTIMEZONE
TZID:America/New_York
BEGIN:DAYLIGHT
TZOFFSETFROM:-0500
TZOFFSETTO:-0400
TZNAME:EDT
DTSTART:20240310T070000
END:DAYLIGHT
BEGIN:STANDARD
TZOFFSETFROM:-0400
TZOFFSETTO:-0500
TZNAME:EST
DTSTART:20241103T060000
END:STANDARD
BEGIN:DAYLIGHT
TZOFFSETFROM:-0500
TZOFFSETTO:-0400
TZNAME:EDT
DTSTART:20250309T070000
END:DAYLIGHT
BEGIN:STANDARD
TZOFFSETFROM:-0400
TZOFFSETTO:-0500
TZNAME:EST
DTSTART:20251102T060000
END:STANDARD
BEGIN:DAYLIGHT
TZOFFSETFROM:-0500
TZOFFSETTO:-0400
TZNAME:EDT
DTSTART:20260308T070000
END:DAYLIGHT
BEGIN:STANDARD
TZOFFSETFROM:-0400
TZOFFSETTO:-0500
TZNAME:EST
DTSTART:20261101T060000
END:STANDARD
BEGIN:DAYLIGHT
TZOFFSETFROM:-0500
TZOFFSETTO:-0400
TZNAME:EDT
DTSTART:20270314T070000
END:DAYLIGHT
BEGIN:STANDARD
TZOFFSETFROM:-0400
TZOFFSETTO:-0500
TZNAME:EST
DTSTART:20271107T060000
END:STANDARD
END:VTIMEZONE
BEGIN:VEVENT
DTSTART;TZID=America/New_York:20260422T100000
DTEND;TZID=America/New_York:20260422T110000
DTSTAMP:20260424T110602
CREATED:20251211T140250Z
LAST-MODIFIED:20251211T140250Z
UID:1798-1776852000-1776855600@citrusmosquito.org
SUMMARY:Mosquito Control Tour
DESCRIPTION:Join us for a presentation and tour of our mosquito control facility. We will start with a presentation on mosquito control practices\, how you can prevent mosquitoes at home\, and then finish with a tour of our equipment\, lab and helicopters. Everyone is welcome free of charge. This event is geared toward adults however\, children who are interested are welcome to attend. Please RSVP by calling 352-527-7478 ext 315 or emailing tfrisbie@citrusmosquito.org.
URL:https://citrusmosquito.org/ww2/events/mosquito-control-tour-3/
LOCATION:Citrus County Mosquito Control District\, 968 N Lecanto Hwy\, Lecanto\, FL\, 34461\, United States
END:VEVENT
BEGIN:VEVENT
DTSTART;TZID=America/New_York:20260409T090000
DTEND;TZID=America/New_York:20260409T110000
DTSTAMP:20260424T110602
CREATED:20260112T190323Z
LAST-MODIFIED:20260112T190323Z
UID:1819-1775725200-1775732400@citrusmosquito.org
SUMMARY:Buzz Into Beekeeping
DESCRIPTION:Curious about the fascinating world of bees? Join us for a fun\, interactive workshop for adults interested in learning the basics of beekeeping!\nExplore the importance of bees in our ecosystems\, taste fresh honey\, and discover how a hive works. You’ll also learn about the essential equipment and the first steps to starting your own hive.\nEnjoy hands-on activities\, test your knowledge with trivia games (with prizes!)\, and get answers to all your beekeeping questions.Whether you’re just curious or ready to start your beekeeping journey\, this workshop will give you the tools and confidence to begin.\nLearn how choosing the right Florida native plants can support a healthy\, thriving hive. We’ll highlight easy-to-grow native species—like saw palmetto\, shiny sumac\, blanketflower\, and goldenrod—that provide essential nectar and pollen. Discover how creating a simple bee-friendly garden at home can naturally boost hive nutrition and honey production.
URL:https://citrusmosquito.org/ww2/events/buzz-into-beekeeping/
LOCATION:Citrus County Canning Center\, 3405 West Southern St\, Lecanto\, FL\, 34461\, United States
END:VEVENT
BEGIN:VEVENT
DTSTART;TZID=America/New_York:20260409T080000
DTEND;TZID=America/New_York:20260409T090000
DTSTAMP:20260424T110602
CREATED:20260325T202400Z
LAST-MODIFIED:20260325T202400Z
UID:1849-1775721600-1775725200@citrusmosquito.org
SUMMARY:Board Meeting
DESCRIPTION:Agenda and Board Meeting Documents
URL:https://citrusmosquito.org/ww2/events/board-meeting-4/
LOCATION:Citrus County Mosquito Control District\, 968 N Lecanto Hwy\, Lecanto\, FL\, 34461\, United States
END:VEVENT
BEGIN:VEVENT
DTSTART;TZID=America/New_York:20260326T100000
DTEND;TZID=America/New_York:20260326T140000
DTSTAMP:20260424T110602
CREATED:20251014T181007Z
LAST-MODIFIED:20260105T213345Z
UID:1782-1774519200-1774533600@citrusmosquito.org
SUMMARY:Annual Open House
DESCRIPTION:Join us for our annual open house 10:00am-2:00pm. Take a tour of our facilities and talk with our experienced staff. We will have a blood drive on premises during the event with LifeSouth Community Blood Centers.
URL:https://citrusmosquito.org/ww2/events/annual-open-house-2/
LOCATION:Citrus County Mosquito Control District\, 968 N Lecanto Hwy\, Lecanto\, FL\, 34461\, United States
END:VEVENT
BEGIN:VEVENT
DTSTART;TZID=America/New_York:20260321T090000
DTEND;TZID=America/New_York:20260321T130000
DTSTAMP:20260424T110602
CREATED:20260112T184306Z
LAST-MODIFIED:20260112T184349Z
UID:1808-1774083600-1774098000@citrusmosquito.org
SUMMARY:Citrus County Chronicle Spring Home and Outdoor Show
DESCRIPTION:Join us at the Spring Home and Outdoor Show for mosquito control information and giveaways.
URL:https://citrusmosquito.org/ww2/events/citrus-county-chronicle-spring-home-and-outdoor-show/
LOCATION:Crystal River Armory\, 8551 W Venable St\, Crystal River\, FL\, 34429\, United States
END:VEVENT
BEGIN:VEVENT
DTSTART;TZID=America/New_York:20260312T120000
DTEND;TZID=America/New_York:20260312T140000
DTSTAMP:20260424T110602
CREATED:20260112T191217Z
LAST-MODIFIED:20260112T191217Z
UID:1823-1773316800-1773324000@citrusmosquito.org
SUMMARY:Water Conservation Expo
DESCRIPTION:The Expo provides a festive environment where residents can engage directly with local agencies and partners. We will be there with mosquito control information and giveaways.
URL:https://citrusmosquito.org/ww2/events/water-conservation-expo/
LOCATION:Sugarmill Woods Country Club\, 1 Douglas St\, Homosassa\, FL\, 34446\, United States
END:VEVENT
BEGIN:VEVENT
DTSTART;TZID=America/New_York:20260312T080000
DTEND;TZID=America/New_York:20260312T090000
DTSTAMP:20260424T110602
CREATED:20260325T202324Z
LAST-MODIFIED:20260325T202324Z
UID:1847-1773302400-1773306000@citrusmosquito.org
SUMMARY:Board Meeting
DESCRIPTION:Agenda and Board Meeting Documents
URL:https://citrusmosquito.org/ww2/events/board-meeting-3/
LOCATION:Citrus County Mosquito Control District\, 968 N Lecanto Hwy\, Lecanto\, FL\, 34461\, United States
END:VEVENT
BEGIN:VEVENT
DTSTART;TZID=America/New_York:20260214T090000
DTEND;TZID=America/New_York:20260214T130000
DTSTAMP:20260424T110602
CREATED:20260112T183954Z
LAST-MODIFIED:20260112T183954Z
UID:1806-1771059600-1771074000@citrusmosquito.org
SUMMARY:Spring Healthy Living Show
DESCRIPTION:Join us at the Citrus County Chronicle’s Spring Healthy Living Show for mosquito control information and giveaways!
URL:https://citrusmosquito.org/ww2/events/spring-healthy-living-show/
LOCATION:College of Central Florida\, 3800 S Lecanto Hwy\, Lecanto\, FL\, 34461\, United States
END:VEVENT
BEGIN:VEVENT
DTSTART;TZID=America/New_York:20260212T080000
DTEND;TZID=America/New_York:20260212T090000
DTSTAMP:20260424T110602
CREATED:20260325T202247Z
LAST-MODIFIED:20260325T203201Z
UID:1845-1770883200-1770886800@citrusmosquito.org
SUMMARY:Board Meeting
DESCRIPTION:Agenda and Board Meeting Documents
URL:https://citrusmosquito.org/ww2/events/board-meeting-2/
LOCATION:Citrus County Mosquito Control District\, 968 N Lecanto Hwy\, Lecanto\, FL\, 34461\, United States
END:VEVENT
BEGIN:VEVENT
DTSTART;TZID=America/New_York:20260211T100000
DTEND;TZID=America/New_York:20260211T110000
DTSTAMP:20260424T110603
CREATED:20251211T135925Z
LAST-MODIFIED:20251211T135925Z
UID:1796-1770804000-1770807600@citrusmosquito.org
SUMMARY:Mosquito Control Tour
DESCRIPTION:Join us for a presentation and tour of our mosquito control facility. We will start with a presentation on mosquito control practices\, how you can prevent mosquitoes at home\, and then finish with a tour of our equipment\, lab and helicopters. Everyone is welcome free of charge. This event is geared toward adults however\, children who are interested are welcome to attend. Please RSVP by calling 352-527-7478 ext 315 or emailing tfrisbie@citrusmosquito.org.
URL:https://citrusmosquito.org/ww2/events/mosquito-control-tour-2/
LOCATION:Citrus County Mosquito Control District\, 968 N Lecanto Hwy\, Lecanto\, FL\, 34461\, United States
END:VEVENT
BEGIN:VEVENT
DTSTART;TZID=America/New_York:20260110T090000
DTEND;TZID=America/New_York:20260110T140000
DTSTAMP:20260424T110603
CREATED:20260105T212703Z
LAST-MODIFIED:20260105T212703Z
UID:1803-1768035600-1768053600@citrusmosquito.org
SUMMARY:3rd Annual Outdoors Expo
DESCRIPTION:Citrus County Parks and Recreation is hosting an outdoors expo to showcase local vendors and activities to get involved with to enjoy the nature coast that is our home. We will be in attendance at a table with mosquito control information from 9am-2pm. We’ll see you there!
URL:https://citrusmosquito.org/ww2/events/3rd-annual-outdoors-expo/
LOCATION:Citrus Springs Community Center\, 1570 W Citrus Springs Blvd\, Citrus Springs\, FL\, 34434\, United States
END:VEVENT
BEGIN:VEVENT
DTSTART;TZID=America/New_York:20260108T080000
DTEND;TZID=America/New_York:20260108T090000
DTSTAMP:20260424T110603
CREATED:20260325T202155Z
LAST-MODIFIED:20260325T202155Z
UID:1843-1767859200-1767862800@citrusmosquito.org
SUMMARY:Board Meeting
DESCRIPTION:Agenda and Board Meeting Documents
URL:https://citrusmosquito.org/ww2/events/board-meeting/
LOCATION:Citrus County Mosquito Control District\, 968 N Lecanto Hwy\, Lecanto\, FL\, 34461\, United States
END:VEVENT
BEGIN:VEVENT
DTSTART;TZID=America/New_York:20260107T100000
DTEND;TZID=America/New_York:20260107T110000
DTSTAMP:20260424T110603
CREATED:20251211T135844Z
LAST-MODIFIED:20251211T135844Z
UID:1794-1767780000-1767783600@citrusmosquito.org
SUMMARY:Mosquito Control Tour
DESCRIPTION:Join us for a presentation and tour of our mosquito control facility. We will start with a presentation on mosquito control practices\, how you can prevent mosquitoes at home\, and then finish with a tour of our equipment\, lab and helicopters. Everyone is welcome free of charge. This event is geared toward adults however\, children who are interested are welcome to attend. Please RSVP by calling 352-527-7478 ext 315 or emailing tfrisbie@citrusmosquito.org.
URL:https://citrusmosquito.org/ww2/events/mosquito-control-tour/
LOCATION:Citrus County Mosquito Control District\, 968 N Lecanto Hwy\, Lecanto\, FL\, 34461\, United States
END:VEVENT
BEGIN:VEVENT
DTSTART;TZID=America/New_York:20251211T080000
DTEND;TZID=America/New_York:20251211T080000
DTSTAMP:20260424T110603
CREATED:20241202T131543Z
LAST-MODIFIED:20241202T131543Z
UID:1551-1765440000-1765440000@citrusmosquito.org
SUMMARY:Board Meeting
DESCRIPTION:Agenda and Board Meeting Documents
URL:https://citrusmosquito.org/ww2/events/board-meeting-dec-2025/
LOCATION:Citrus County Mosquito Control District\, 968 N Lecanto Hwy\, Lecanto\, FL\, 34461\, United States
CATEGORIES:Board Meetings
END:VEVENT
BEGIN:VEVENT
DTSTART;TZID=America/New_York:20251204T100000
DTEND;TZID=America/New_York:20251204T110000
DTSTAMP:20260424T110603
CREATED:20250903T184023Z
LAST-MODIFIED:20251201T133057Z
UID:1748-1764842400-1764846000@citrusmosquito.org
SUMMARY:Mosquito Control Academy
DESCRIPTION:Join us at our office to learn about mosquito control and take a tour of our facilities. Registration is free but required. Please RSVP by calling our office at 352-527-7478 extension 315\, or by emailing tfrisbie@citrusmosquito.org with your name and how many you would like to RSVP. If there are no RSVPs the event will be cancelled. Please follow our Facebook page for all updates.
URL:https://citrusmosquito.org/ww2/events/mosquito-control-academy-3/
LOCATION:Citrus County Mosquito Control District\, 968 N Lecanto Hwy\, Lecanto\, FL\, 34461\, United States
END:VEVENT
BEGIN:VEVENT
DTSTART;TZID=America/New_York:20251122T090000
DTEND;TZID=America/New_York:20251122T140000
DTSTAMP:20260424T110603
CREATED:20250804T131950Z
LAST-MODIFIED:20250804T132005Z
UID:1728-1763802000-1763820000@citrusmosquito.org
SUMMARY:Farm City - Annual Farm Bureau Celebration
DESCRIPTION:Save the date! Updates to come. Farm City is an annual Farm Bureau celebration of food\, fuel\, and fiber. We will have a honey bee table set up during the event.
URL:https://citrusmosquito.org/ww2/events/farm-city-annual-farm-bureau-celebration/
LOCATION:Liberty Park\, 268 North Apopka Avenue\, Inverness Florida\, FL\, 34450\, United States
END:VEVENT
BEGIN:VEVENT
DTSTART;TZID=America/New_York:20251118T080000
DTEND;TZID=America/New_York:20251118T080000
DTSTAMP:20260424T110603
CREATED:20241202T131352Z
LAST-MODIFIED:20250908T112539Z
UID:1549-1763452800-1763452800@citrusmosquito.org
SUMMARY:Board Meeting
DESCRIPTION:Agenda and Board Meeting Documents
URL:https://citrusmosquito.org/ww2/events/board-meeting-nov-2025/
LOCATION:Citrus County Mosquito Control District\, 968 N Lecanto Hwy\, Lecanto\, FL\, 34461\, United States
CATEGORIES:Board Meetings
END:VEVENT
BEGIN:VEVENT
DTSTART;TZID=America/New_York:20251113T090000
DTEND;TZID=America/New_York:20251113T120000
DTSTAMP:20260424T110603
CREATED:20251007T192612Z
LAST-MODIFIED:20251007T192612Z
UID:1779-1763024400-1763035200@citrusmosquito.org
SUMMARY:Buzz Into Beekeeping Course
DESCRIPTION: Buzz Into Beekeeping! \nWhether you want to start a beehive or are just curious what all the buzz is about\, join us on November 13th for a beginner beekeeping program in collaboration with Citrus County Parks and Recreation!\n\n When: Thursday November 13th\, 9am-12pm\n Where: Canning Center\, Lecanto FL\nThis event is FREE\, but registration is required. Follow the link to register: https://tinyurl.com/Parks-RecreationActivities
URL:https://citrusmosquito.org/ww2/events/buzz-into-beekeeping-course/
LOCATION:Citrus County Canning Center\, 3405 West Southern St\, Lecanto\, FL\, 34461\, United States
END:VEVENT
BEGIN:VEVENT
DTSTART;TZID=America/New_York:20251112T100000
DTEND;TZID=America/New_York:20251112T110000
DTSTAMP:20260424T110603
CREATED:20250903T183939Z
LAST-MODIFIED:20251007T190835Z
UID:1746-1762941600-1762945200@citrusmosquito.org
SUMMARY:Mosquito Control Academy
DESCRIPTION:Join us at our office to learn about mosquito control and take a tour of our facilities. Registration is free but required. Please RSVP by calling our office at 352-527-7478 extension 315\, or by emailing tfrisbie@citrusmosquito.org with your name and how many you would like to RSVP. If there are no RSVPs the event will be cancelled. Please follow our Facebook page for all updates.
URL:https://citrusmosquito.org/ww2/events/mosquito-control-academy-2/
LOCATION:Citrus County Mosquito Control District\, 968 N Lecanto Hwy\, Lecanto\, FL\, 34461\, United States
END:VEVENT
BEGIN:VEVENT
DTSTART;TZID=America/New_York:20251110T100000
DTEND;TZID=America/New_York:20251110T103000
DTSTAMP:20260424T110603
CREATED:20250903T191756Z
LAST-MODIFIED:20250903T191756Z
UID:1760-1762768800-1762770600@citrusmosquito.org
SUMMARY:Live Beekeeping Q&A Session
DESCRIPTION:Join us between 10:00am and 10:30am to get your beekeeping questions answered. No formal presentation will be presented\, just hop on during the scheduled half hour to ask your questions. https://zoom.us/j/94540337396
URL:https://citrusmosquito.org/ww2/events/live-beekeeping-qa-session/
END:VEVENT
BEGIN:VEVENT
DTSTART;TZID=America/New_York:20251103T100000
DTEND;TZID=America/New_York:20251103T103000
DTSTAMP:20260424T110603
CREATED:20250903T191649Z
LAST-MODIFIED:20250903T191649Z
UID:1758-1762164000-1762165800@citrusmosquito.org
SUMMARY:Live Mosquito Q&A Session
DESCRIPTION:Join us between 10:00am and 10:30am to get your mosquito/mosquito control questions answered. No formal presentation will be presented\, just hop on during the scheduled half hour to ask your questions. https://zoom.us/j/91344516007
URL:https://citrusmosquito.org/ww2/events/live-mosquito-qa-session/
END:VEVENT
BEGIN:VEVENT
DTSTART;TZID=America/New_York:20251029T090000
DTEND;TZID=America/New_York:20251029T110000
DTSTAMP:20260424T110603
CREATED:20251007T192300Z
LAST-MODIFIED:20251007T192300Z
UID:1776-1761728400-1761735600@citrusmosquito.org
SUMMARY:Bat Day - Just For Kids
DESCRIPTION:Celebrate Bat Week with Citrus County Parks & Recreation!\n\nBring your little ones (ages 3–8\, with parent supervision) for a fun andfamily-friendly event all about bats! Kids will enjoy an engaging storytime\,learn fun bat facts\, and get crafty with bats and moons\, sparking their creativitywhile discovering these amazing night-time creatures.\n\nWednesday\, October 29 at Citrus County Canning Center\, 3405 W. Southern Street\, Lecantofrom 9am to 11am!\n\nRegistration is required to ensure we have plenty of craft supplies!\nJoin us for a morning filled with stories\, crafts\, and smiles—it’ll be a bat-tastic time!
URL:https://citrusmosquito.org/ww2/events/bat-day-just-for-kids/
LOCATION:Citrus County Canning Center\, 3405 West Southern St\, Lecanto\, FL\, 34461\, United States
END:VEVENT
BEGIN:VEVENT
DTSTART;TZID=America/New_York:20251027T100000
DTEND;TZID=America/New_York:20251027T110000
DTSTAMP:20260424T110603
CREATED:20250903T184516Z
LAST-MODIFIED:20251022T151411Z
UID:1755-1761559200-1761562800@citrusmosquito.org
SUMMARY:*Cancelled* Beekeeping Basics - Introduction to Pests and Diseases
DESCRIPTION:Join us for the final installment of our beekeeping webinar series – Intro to Pests and Diseases. This is part 3 of 3. Registration is free but is required so please email tfrisbie@citrusmosquito.org for the link to the virtual webinar.
URL:https://citrusmosquito.org/ww2/events/beekeeping-basics-introduction-to-pests-and-diseases/
END:VEVENT
BEGIN:VEVENT
DTSTART;TZID=America/New_York:20251020T100000
DTEND;TZID=America/New_York:20251020T110000
DTSTAMP:20260424T110603
CREATED:20250903T184418Z
LAST-MODIFIED:20250903T184418Z
UID:1753-1760954400-1760958000@citrusmosquito.org
SUMMARY:Beekeeping Basics - Get Started Beekeeping
DESCRIPTION:Join us for the second installment of our beekeeping webinar series – Getting Started Beekeeping. This is part 2 of 3. Registration is free but is required so please email tfrisbie@citrusmosquito.org for the link to the virtual webinar.
URL:https://citrusmosquito.org/ww2/events/beekeeping-basics-get-started-beekeeping/
END:VEVENT
BEGIN:VEVENT
DTSTART;TZID=America/New_York:20251018T090000
DTEND;TZID=America/New_York:20251018T130000
DTSTAMP:20260424T110603
CREATED:20250804T131003Z
LAST-MODIFIED:20250903T184135Z
UID:1723-1760778000-1760792400@citrusmosquito.org
SUMMARY:*CANCELLED* Estuaries Day
DESCRIPTION:Save the date. October 18th 9am-1pm. More details to come.
URL:https://citrusmosquito.org/ww2/events/estuaries-day/
LOCATION:St. Martin’s Marsh Aquatic Preserve\, 3266 N Sailboat Ave\, Crystal River\, FL\, 34428\, United States
END:VEVENT
BEGIN:VEVENT
DTSTART;TZID=America/New_York:20251013T100000
DTEND;TZID=America/New_York:20251013T110000
DTSTAMP:20260424T110603
CREATED:20250903T184303Z
LAST-MODIFIED:20250903T184303Z
UID:1751-1760349600-1760353200@citrusmosquito.org
SUMMARY:Beekeeping Basics - Biology of Honey Bees
DESCRIPTION:Join us for the first installment of our beekeeping webinar series – Biology of Honey Bees. This is part 1 of 3. Registration is free but is required so please email tfrisbie@citrusmosquito.org for the link to the virtual webinar.
URL:https://citrusmosquito.org/ww2/events/beekeeping-basics-biology-of-honey-bees/
END:VEVENT
BEGIN:VEVENT
DTSTART;TZID=America/New_York:20251011T090000
DTEND;TZID=America/New_York:20251011T130000
DTSTAMP:20260424T110603
CREATED:20250512T115218Z
LAST-MODIFIED:20251007T190912Z
UID:1676-1760173200-1760187600@citrusmosquito.org
SUMMARY:Chronicle Healthy Living Show
DESCRIPTION:Join us at the Chronicle’s Healthy Living Show for information and freebies.
URL:https://citrusmosquito.org/ww2/events/chronicle-healthy-living-show/
LOCATION:Crystal River Armory\, 8551 W Venable St\, Crystal River\, FL\, 34429\, United States
END:VEVENT
BEGIN:VEVENT
DTSTART;TZID=America/New_York:20251008T100000
DTEND;TZID=America/New_York:20251008T110000
DTSTAMP:20260424T110603
CREATED:20250903T183841Z
LAST-MODIFIED:20250903T183841Z
UID:1744-1759917600-1759921200@citrusmosquito.org
SUMMARY:Mosquito Control Academy
DESCRIPTION:Join us at our office to learn about mosquito control and take a tour of our facilities. Registration is free but required. Please RSVP by calling our office at 352-527-7478 extension 315\, or by emailing tfrisbie@citrusmosquito.org with your name and how many you would like to RSVP. If there are no RSVPs the event will be cancelled. Please follow our Facebook page for all updates.
URL:https://citrusmosquito.org/ww2/events/mosquito-control-academy/
LOCATION:Citrus County Mosquito Control District\, 968 N Lecanto Hwy\, Lecanto\, FL\, 34461\, United States
END:VEVENT
BEGIN:VEVENT
DTSTART;TZID=America/New_York:20251008T080000
DTEND;TZID=America/New_York:20251008T080000
DTSTAMP:20260424T110603
CREATED:20241202T131316Z
LAST-MODIFIED:20250930T194853Z
UID:1547-1759910400-1759910400@citrusmosquito.org
SUMMARY:Board Meeting
DESCRIPTION:Agenda and Board Meeting Documents
URL:https://citrusmosquito.org/ww2/events/board-meeting-oct-2025/
LOCATION:Citrus County Mosquito Control District\, 968 N Lecanto Hwy\, Lecanto\, FL\, 34461\, United States
CATEGORIES:Board Meetings
END:VEVENT
BEGIN:VEVENT
DTSTART;TZID=America/New_York:20250927T090000
DTEND;TZID=America/New_York:20250927T130000
DTSTAMP:20260424T110603
CREATED:20250512T115045Z
LAST-MODIFIED:20250512T115045Z
UID:1673-1758963600-1758978000@citrusmosquito.org
SUMMARY:Chronicle Home and Outdoor Show
DESCRIPTION:Join us at the Chronicle’s Home and Outdoor Show for information and freebies.
URL:https://citrusmosquito.org/ww2/events/chronicle-home-and-outdoor-show/
LOCATION:Citrus County Auditorium\, 3610 S Florida Ave\, Inverness\, FL\, 34450\, United States
END:VEVENT
END:VCALENDAR